BEGIN:VCALENDAR
VERSION:2.0
PRODID:-//wp-events-plugin.com//7.2.3.1//EN
TZID:America/Vancouver
X-WR-TIMEZONE:America/Vancouver
BEGIN:VEVENT
UID:2@chinese.tomleemusic.ca
DTSTART;TZID=America/Vancouver:20260420T100000
DTEND;TZID=America/Vancouver:20260503T180000
DTSTAMP:20260420T181639Z
URL:https://chinese.tomleemusic.ca/event/festival-piano-sale/
SUMMARY:音乐节钢琴大展销
DESCRIPTION:
ATTACH;FMTTYPE=image/jpeg:https://chinese.tomleemusic.ca/wp-content/upload
 s/2026/04/20260420-tlm-600x400-1.jpg
END:VEVENT
BEGIN:VTIMEZONE
TZID:America/Vancouver
X-LIC-LOCATION:America/Vancouver
BEGIN:DAYLIGHT
DTSTART:20260308T030000
TZOFFSETFROM:-0800
TZOFFSETTO:-0700
TZNAME:PDT
END:DAYLIGHT
END:VTIMEZONE
END:VCALENDAR